BEGIN:VCALENDAR
VERSION:2.0
PRODID:-//Sterk Meppel - ECPv6.15.19//NONSGML v1.0//EN
CALSCALE:GREGORIAN
METHOD:PUBLISH
X-WR-CALNAME:Sterk Meppel
X-ORIGINAL-URL:https://sterkmeppel.nl
X-WR-CALDESC:Evenementen voor Sterk Meppel
REFRESH-INTERVAL;VALUE=DURATION:PT1H
X-Robots-Tag:noindex
X-PUBLISHED-TTL:PT1H
BEGIN:VTIMEZONE
TZID:Europe/Amsterdam
BEGIN:DAYLIGHT
TZOFFSETFROM:+0100
TZOFFSETTO:+0200
TZNAME:CEST
DTSTART:20250330T010000
END:DAYLIGHT
BEGIN:STANDARD
TZOFFSETFROM:+0200
TZOFFSETTO:+0100
TZNAME:CET
DTSTART:20251026T010000
END:STANDARD
BEGIN:DAYLIGHT
TZOFFSETFROM:+0100
TZOFFSETTO:+0200
TZNAME:CEST
DTSTART:20260329T010000
END:DAYLIGHT
BEGIN:STANDARD
TZOFFSETFROM:+0200
TZOFFSETTO:+0100
TZNAME:CET
DTSTART:20261025T010000
END:STANDARD
BEGIN:DAYLIGHT
TZOFFSETFROM:+0100
TZOFFSETTO:+0200
TZNAME:CEST
DTSTART:20270328T010000
END:DAYLIGHT
BEGIN:STANDARD
TZOFFSETFROM:+0200
TZOFFSETTO:+0100
TZNAME:CET
DTSTART:20271031T010000
END:STANDARD
END:VTIMEZONE
BEGIN:VEVENT
DTSTART;TZID=Europe/Amsterdam:20261105T193000
DTEND;TZID=Europe/Amsterdam:20261105T213000
DTSTAMP:20260422T174718
CREATED:20260123T095218Z
LAST-MODIFIED:20260127T095301Z
UID:3003-1793907000-1793914200@sterkmeppel.nl
SUMMARY:Raadsvergadering
DESCRIPTION:
URL:https://sterkmeppel.nl/agenda-item/raadsvergadering-9/
LOCATION:Stadhuis – Raadzaal\, Grote Oever 26\, Meppel\, Drenthe\, 7941 CZ\, Netherlands
CATEGORIES:Raadsvergadering
ATTACH;FMTTYPE=image/jpeg:https://sterkmeppel.nl/wp-content/uploads/2022/08/Selectie-8.jpg
END:VEVENT
END:VCALENDAR